BEGIN:VCALENDAR
VERSION:2.0
PRODID:icalendar-ruby
CALSCALE:GREGORIAN
METHOD:PUBLISH
BEGIN:VEVENT
DTSTAMP:20260423T205118Z
UID:29-770831@salem-catonsville.org
DTSTART:20261101T144500Z
DTEND:20261101T154500Z
CLASS:PUBLIC
CREATED:20260423T142627
DESCRIPTION:Adult Forum meets between services in the Katie Luther. Join us
  in spirited discussions on faith\, spirtuality\, scripture\, contemporary
  topics\, and more! \nCheck out our newsletter or weekly announcements fo
 r this week's discussion.
LAST-MODIFIED:20260423T142627
LOCATION:Katie Luther Room
SUMMARY:Adult Forum
URL;VALUE=URI:https://salem-catonsville.org/events/adult-forum--29/2026-11-
 01
ATTACH;FILENAME=IMG_3862.jpg;FMTTYPE=image/jpeg:https://dq5pwpg1q8ru0.cloud
 front.net/2025/11/12/19/36/57/ade0b483-5e0d-4fcb-b216-0066f568d5db/IMG_386
 2.jpg
END:VEVENT
END:VCALENDAR
