BEGIN:VCALENDAR
VERSION:2.0
PRODID:icalendar-ruby
CALSCALE:GREGORIAN
METHOD:PUBLISH
BEGIN:VEVENT
DTSTAMP:20260424T093151Z
UID:6-772936@salem-catonsville.org
DTSTART:20261011T123000Z
DTEND:20261011T133000Z
CLASS:PUBLIC
CREATED:20260423T230848
DESCRIPTION:
LAST-MODIFIED:20260423T230848
LOCATION:
SUMMARY:Early Sunday Service
URL;VALUE=URI:https://salem-catonsville.org/events/early-sunday-service/202
 6-10-11
ATTACH;FILENAME=IMG_1463.JPEG;FMTTYPE=image/jpeg:https://dq5pwpg1q8ru0.clou
 dfront.net/2025/10/30/21/54/51/b55ee3c6-5ac8-496d-bb1a-edaaf84b3310/IMG_14
 63.JPEG
END:VEVENT
END:VCALENDAR
