BEGIN:VCALENDAR
VERSION:2.0
PRODID:icalendar-ruby
CALSCALE:GREGORIAN
METHOD:PUBLISH
BEGIN:VEVENT
DTSTAMP:20260424T141424Z
UID:6-773791@salem-catonsville.org
DTSTART:20261101T133000Z
DTEND:20261101T143000Z
CLASS:PUBLIC
CREATED:20260424T083654
DESCRIPTION:
LAST-MODIFIED:20260424T083654
LOCATION:
SUMMARY:Early Sunday Service
URL;VALUE=URI:https://salem-catonsville.org/events/early-sunday-service/202
 6-11-01
ATTACH;FILENAME=IMG_1463.JPEG;FMTTYPE=image/jpeg:https://dq5pwpg1q8ru0.clou
 dfront.net/2025/10/30/21/54/51/b55ee3c6-5ac8-496d-bb1a-edaaf84b3310/IMG_14
 63.JPEG
END:VEVENT
END:VCALENDAR
