BEGIN:VCALENDAR
VERSION:2.0
PRODID:icalendar-ruby
CALSCALE:GREGORIAN
METHOD:PUBLISH
BEGIN:VEVENT
DTSTAMP:20260424T012409Z
UID:20-772291@salem-catonsville.org
DTSTART:20261018T150000Z
DTEND:20261018T160000Z
CLASS:PUBLIC
CREATED:20260423T201417
DESCRIPTION:Join us for our 11:00 traditional service!
LAST-MODIFIED:20260423T201417
LOCATION:Sanctuary
SUMMARY:Late Sunday Service
URL;VALUE=URI:https://salem-catonsville.org/events/late-sunday-service--20/
 2026-10-18
END:VEVENT
END:VCALENDAR
