BEGIN:VCALENDAR
VERSION:2.0
PRODID:icalendar-ruby
CALSCALE:GREGORIAN
METHOD:PUBLISH
BEGIN:VEVENT
DTSTAMP:20260424T081056Z
UID:27-773333@salem-catonsville.org
DTSTART:20261005T170000Z
DTEND:20261005T183000Z
CLASS:PUBLIC
CREATED:20260423T230850
DESCRIPTION:Join us for a free and affordable flow!
LAST-MODIFIED:20260423T230850
LOCATION:Reformation Hall
SUMMARY:Yoga
URL;VALUE=URI:https://salem-catonsville.org/events/yoga--27/2026-10-05
ATTACH;FILENAME=ChatGPT-Image-Dec-9%2C-2025%2C-04_59_01-PM.png;FMTTYPE=imag
 e/png:https://dq5pwpg1q8ru0.cloudfront.net/2025/12/09/22/02/54/6a33f62e-1c
 5a-4076-a771-4bd6ee44e84f/ChatGPT-Image-Dec-9%252C-2025%252C-04_59_01-PM.p
 ng
END:VEVENT
END:VCALENDAR
